BEGIN:VCALENDAR
VERSION:2.0
PRODID:-//Climate Change Leadership - ECPv6.15.17//NONSGML v1.0//EN
CALSCALE:GREGORIAN
METHOD:PUBLISH
X-WR-CALNAME:Climate Change Leadership
X-ORIGINAL-URL:https://climatechangeleadership.blog.uu.se
X-WR-CALDESC:Events for Climate Change Leadership
REFRESH-INTERVAL;VALUE=DURATION:PT1H
X-Robots-Tag:noindex
X-PUBLISHED-TTL:PT1H
BEGIN:VTIMEZONE
TZID:Europe/Stockholm
BEGIN:DAYLIGHT
TZOFFSETFROM:+0100
TZOFFSETTO:+0200
TZNAME:CEST
DTSTART:20210328T010000
END:DAYLIGHT
BEGIN:STANDARD
TZOFFSETFROM:+0200
TZOFFSETTO:+0100
TZNAME:CET
DTSTART:20211031T010000
END:STANDARD
BEGIN:DAYLIGHT
TZOFFSETFROM:+0100
TZOFFSETTO:+0200
TZNAME:CEST
DTSTART:20220327T010000
END:DAYLIGHT
BEGIN:STANDARD
TZOFFSETFROM:+0200
TZOFFSETTO:+0100
TZNAME:CET
DTSTART:20221030T010000
END:STANDARD
BEGIN:DAYLIGHT
TZOFFSETFROM:+0100
TZOFFSETTO:+0200
TZNAME:CEST
DTSTART:20230326T010000
END:DAYLIGHT
BEGIN:STANDARD
TZOFFSETFROM:+0200
TZOFFSETTO:+0100
TZNAME:CET
DTSTART:20231029T010000
END:STANDARD
END:VTIMEZONE
BEGIN:VEVENT
DTSTART;TZID=Europe/Stockholm:20221121T150000
DTEND;TZID=Europe/Stockholm:20221121T173000
DTSTAMP:20260424T111729
CREATED:20221028T154749Z
LAST-MODIFIED:20221115T221911Z
UID:6707-1669042800-1669051800@climatechangeleadership.blog.uu.se
SUMMARY:"We need climate leadership" - Inaugural lecture by Sverker C. Jagers\, visiting Zennström professor
DESCRIPTION:In his inaugural lecture\, professor Sverker C. Jagers proceeds from the theory of social dilemmas and collective action to explain the origin of climate change and to discuss what is required to avoid this problem. He argues that basically\, we are dealing with a gigantic coordination problem and due to the very large scale of the situation\, it is not at all likely that contributing actors will change their behavior\, neither spontaneously nor voluntarily. Instead\, the situation requires active guidance and help; that some take on the role as climate change leaders and either show the possibility of alternative route choices or contribute to necessary coordination through firmer steering. In his lecture\, Jagers discusses several potential candidates who can take on this leadership role; scientists\, businesses\, religious communities\, and other members of civil society. As a political scientist by training\, he particularly elaborates on the possibilities and obstacles of the political sphere to take on an active climate change leadership role. \nThe lecture is followed by a panel discussion with invited guests on the subject of implementing climate change leadership in various sectors of society. The audience is encouraged to ask questions. \nPanel members \nNaghmeh Nasiritousi\, Associate Prof in political sciences at Stockholms university\nAnnika Gottberg\, environmental specialist\, Svenska kyrkan\nMattias Johansson\, Head of Public Affairs\, Volvo Cars\, former chief of staff at the Ministry of the Environment (C)\nEva Svedling\, elected CEO Global Challenge (Global utmaning)\, former undersecretary of state at the Ministry of the Environment (MP) \nDate and time: 21 November 2022\, 15:00-16:30 (lecture and panel discussion) and 16.30-17.30 (mingle).\nVenue: Sonja Lyttkens sal\, House 10\, floor 1\, New Ångström\, Uppsala University.\nLanguage: English.\nFood served:  Yes.\nOpen for: Everyone interested in climate change solutions; i. e. the public\,\norganisations\, students and researcher \nLast day to register is 14 November 2022. Registration is mandatory. \nSign up here: https://doit.medfarm.uu.se/bin/kurt3/kurt/73114 \nMore information: \nJudith Lundberg-Felten\, project coordinator\, Climate Change Leadership:\njudith.lundberg-felten@geo.uu.se \nThe Zennström Professorship in Climate Change Leadership\nClimate Change Leadership hosts the Zennström Visiting Professorship in Climate Change Leadership. The Zennström Professorship in Climate Change Leadership is a ten year series of visiting professorships co-funded by generous donations from Zennström Philanthropies\, founded by Niklas Zennström\, Uppsala University alumnus\, and his wife Catherine Zennström.\nRead more: www.geo.uu.se/climate-change-leadership/
URL:https://climatechangeleadership.blog.uu.se/event/we-need-climate-leadership-inaugural-lecture-by-sverker-c-jagers-visiting-zennstrom-professor/
LOCATION:Sonja Lyttkens sal\, New Ångströms\, Ångström Laboratory\, House 10\, Uppsala\, Sweden
ATTACH;FMTTYPE=image/jpeg:https://climatechangeleadership.blog.uu.se/files/2022/10/Sverker-portrait.jpg
END:VEVENT
END:VCALENDAR